BEGIN:VCALENDAR
VERSION:2.0
PRODID:-//https://pokemontrainersuniverse.com///NONSGML kigkonsult.se iCalcreator 2.10.15//
METHOD:PUBLISH
BEGIN:VEVENT
UID:20260419T125935UTC-3734t30z3p@https://pokemontrainersuniverse.com/
DTSTAMP:20260419T125935Z
DESCRIPTION: https://pokemontrainersuniverse.com/tournaments/event/340-one-
 up-games-weekly-pokemon
DTSTART:20260516T180000Z
DTEND:20260516T235700Z
LOCATION:One Up Games (2 Wilkins Dr\, Plainville\, MA 02762)
SUMMARY:One Up Games Weekly Pokemon
URL:https://pokemontrainersuniverse.com/tournaments/event/340-one-up-games-
 weekly-pokemon
END:VEVENT
END:VCALENDAR
