BEGIN:VCALENDAR
VERSION:2.0
PRODID:-//https://pokemontrainersuniverse.com///NONSGML kigkonsult.se iCalcreator 2.10.15//
METHOD:PUBLISH
BEGIN:VEVENT
UID:20260420T002317UTC-6707AK4dhz@https://pokemontrainersuniverse.com/
DTSTAMP:20260420T002317Z
DESCRIPTION: https://pokemontrainersuniverse.com/tournaments/event/372-one-
 up-games-weekly-pokemon
DTSTART:20261226T180000Z
DTEND:20261226T235700Z
LOCATION:One Up Games (2 Wilkins Dr\, Plainville\, MA 02762)
SUMMARY:One Up Games Weekly Pokemon
URL:https://pokemontrainersuniverse.com/tournaments/event/372-one-up-games-
 weekly-pokemon
END:VEVENT
END:VCALENDAR
