BEGIN:VCALENDAR
VERSION:2.0
PRODID:-//https://pokemontrainersuniverse.com///NONSGML kigkonsult.se iCalcreator 2.10.15//
METHOD:PUBLISH
BEGIN:VEVENT
UID:20260421T105706UTC-2901hUb9lD@https://pokemontrainersuniverse.com/
DTSTAMP:20260421T105706Z
DESCRIPTION: https://pokemontrainersuniverse.com/tournaments/event/289-grea
 t-stories-friday-night-tcg-events
DTSTART:20260417T180000Z
DTEND:20260417T235700Z
LOCATION:Great Stories (1167 PROVIDENCE RD #4\, WHITINSVILLE\, MA 01588\, U
 SA)
SUMMARY:Great Stories Friday Night TCG Events
URL:https://pokemontrainersuniverse.com/tournaments/event/289-great-stories
 -friday-night-tcg-events
END:VEVENT
BEGIN:VEVENT
UID:20260421T105706UTC-2903WxvMNj@https://pokemontrainersuniverse.com/
DTSTAMP:20260421T105706Z
DESCRIPTION: https://pokemontrainersuniverse.com/tournaments/event/392-frie
 ndly-pokemon-league-community-cards
DTSTART:20260417T170000Z
DTEND:20260417T200000Z
LOCATION:Community Cards (9 N Main St\, Attleboro\, MA 02703)
SUMMARY:Friendly Pokemon League @ Community Cards
URL:https://pokemontrainersuniverse.com/tournaments/event/392-friendly-poke
 mon-league-community-cards
END:VEVENT
END:VCALENDAR
