BEGIN:VCALENDAR
VERSION:2.0
PRODID:-//https://pokemontrainersuniverse.com///NONSGML kigkonsult.se iCalcreator 2.10.15//
METHOD:PUBLISH
BEGIN:VEVENT
UID:20260419T125759UTC-3511jI133U@https://pokemontrainersuniverse.com/
DTSTAMP:20260419T125759Z
DESCRIPTION: https://pokemontrainersuniverse.com/tournaments/event/397-frie
 ndly-pokemon-league-community-cards
DTSTART:20260507T170000Z
DTEND:20260507T200000Z
LOCATION:Community Cards (9 N Main St\, Attleboro\, MA 02703)
SUMMARY:Friendly Pokemon League @ Community Cards
URL:https://pokemontrainersuniverse.com/tournaments/event/397-friendly-poke
 mon-league-community-cards
END:VEVENT
END:VCALENDAR
