BEGIN:VCALENDAR
VERSION:2.0
PRODID:-//https://pokemontrainersuniverse.com///NONSGML kigkonsult.se iCalcreator 2.10.15//
METHOD:PUBLISH
BEGIN:VEVENT
UID:20260419T130104UTC-3402keBHMM@https://pokemontrainersuniverse.com/
DTSTAMP:20260419T130104Z
DESCRIPTION: https://pokemontrainersuniverse.com/tournaments/event/293-grea
 t-stories-friday-night-tcg-events
DTSTART:20260515T180000Z
DTEND:20260515T235700Z
LOCATION:Great Stories (1167 PROVIDENCE RD #4\, WHITINSVILLE\, MA 01588\, U
 SA)
SUMMARY:Great Stories Friday Night TCG Events
URL:https://pokemontrainersuniverse.com/tournaments/event/293-great-stories
 -friday-night-tcg-events
END:VEVENT
BEGIN:VEVENT
UID:20260419T130104UTC-3403RD4WZG@https://pokemontrainersuniverse.com/
DTSTAMP:20260419T130104Z
DESCRIPTION: https://pokemontrainersuniverse.com/tournaments/event/400-frie
 ndly-pokemon-league-community-cards
DTSTART:20260515T170000Z
DTEND:20260515T200000Z
LOCATION:Community Cards (9 N Main St\, Attleboro\, MA 02703)
SUMMARY:Friendly Pokemon League @ Community Cards
URL:https://pokemontrainersuniverse.com/tournaments/event/400-friendly-poke
 mon-league-community-cards
END:VEVENT
END:VCALENDAR
