BEGIN:VCALENDAR
VERSION:2.0
PRODID:-//https://pokemontrainersuniverse.com///NONSGML kigkonsult.se iCalcreator 2.10.15//
METHOD:PUBLISH
BEGIN:VEVENT
UID:20260419T130104UTC-48878wu45P@https://pokemontrainersuniverse.com/
DTSTAMP:20260419T130104Z
DESCRIPTION: https://pokemontrainersuniverse.com/tournaments/event/403-frie
 ndly-pokemon-league-community-cards
DTSTART:20260528T170000Z
DTEND:20260528T200000Z
LOCATION:Community Cards (9 N Main St\, Attleboro\, MA 02703)
SUMMARY:Friendly Pokemon League @ Community Cards
URL:https://pokemontrainersuniverse.com/tournaments/event/403-friendly-poke
 mon-league-community-cards
END:VEVENT
END:VCALENDAR
