BEGIN:VCALENDAR
VERSION:2.0
PRODID:-//https://pokemontrainersuniverse.com///NONSGML kigkonsult.se iCalcreator 2.10.15//
METHOD:PUBLISH
BEGIN:VEVENT
UID:20260419T143211UTC-4745lECEPi@https://pokemontrainersuniverse.com/
DTSTAMP:20260419T143211Z
DESCRIPTION: https://pokemontrainersuniverse.com/tournaments/event/296-grea
 t-stories-friday-night-tcg-events
DTSTART:20260605T180000Z
DTEND:20260605T235700Z
LOCATION:Great Stories (1167 PROVIDENCE RD #4\, WHITINSVILLE\, MA 01588\, U
 SA)
SUMMARY:Great Stories Friday Night TCG Events
URL:https://pokemontrainersuniverse.com/tournaments/event/296-great-stories
 -friday-night-tcg-events
END:VEVENT
BEGIN:VEVENT
UID:20260419T143211UTC-4747SUZ2Pm@https://pokemontrainersuniverse.com/
DTSTAMP:20260419T143211Z
DESCRIPTION: https://pokemontrainersuniverse.com/tournaments/event/406-frie
 ndly-pokemon-league-community-cards
DTSTART:20260605T170000Z
DTEND:20260605T200000Z
LOCATION:Community Cards (9 N Main St\, Attleboro\, MA 02703)
SUMMARY:Friendly Pokemon League @ Community Cards
URL:https://pokemontrainersuniverse.com/tournaments/event/406-friendly-poke
 mon-league-community-cards
END:VEVENT
END:VCALENDAR
