BEGIN:VCALENDAR
VERSION:2.0
PRODID:-//https://pokemontrainersuniverse.com///NONSGML kigkonsult.se iCalcreator 2.10.15//
METHOD:PUBLISH
BEGIN:VEVENT
UID:20260419T143343UTC-0807keWWoF@https://pokemontrainersuniverse.com/
DTSTAMP:20260419T143343Z
DESCRIPTION: https://pokemontrainersuniverse.com/tournaments/event/346-one-
 up-games-weekly-pokemon
DTSTART:20260627T180000Z
DTEND:20260627T235700Z
LOCATION:One Up Games (2 Wilkins Dr\, Plainville\, MA 02762)
SUMMARY:One Up Games Weekly Pokemon
URL:https://pokemontrainersuniverse.com/tournaments/event/346-one-up-games-
 weekly-pokemon
END:VEVENT
END:VCALENDAR
