BEGIN:VCALENDAR
VERSION:2.0
PRODID:-//https://pokemontrainersuniverse.com///NONSGML kigkonsult.se iCalcreator 2.10.15//
METHOD:PUBLISH
BEGIN:VEVENT
UID:20260419T143412UTC-4467nFiDe0@https://pokemontrainersuniverse.com/
DTSTAMP:20260419T143412Z
DESCRIPTION: https://pokemontrainersuniverse.com/tournaments/event/300-grea
 t-stories-friday-night-tcg-events
DTSTART:20260703T180000Z
DTEND:20260703T235700Z
LOCATION:Great Stories (1167 PROVIDENCE RD #4\, WHITINSVILLE\, MA 01588\, U
 SA)
SUMMARY:Great Stories Friday Night TCG Events
URL:https://pokemontrainersuniverse.com/tournaments/event/300-great-stories
 -friday-night-tcg-events
END:VEVENT
END:VCALENDAR
