BEGIN:VCALENDAR
VERSION:2.0
PRODID:-//https://pokemontrainersuniverse.com///NONSGML kigkonsult.se iCalcreator 2.10.15//
METHOD:PUBLISH
BEGIN:VEVENT
UID:20260419T160406UTC-31733urUSR@https://pokemontrainersuniverse.com/
DTSTAMP:20260419T160406Z
DESCRIPTION: https://pokemontrainersuniverse.com/tournaments/event/348-one-
 up-games-weekly-pokemon
DTSTART:20260711T180000Z
DTEND:20260711T235700Z
LOCATION:One Up Games (2 Wilkins Dr\, Plainville\, MA 02762)
SUMMARY:One Up Games Weekly Pokemon
URL:https://pokemontrainersuniverse.com/tournaments/event/348-one-up-games-
 weekly-pokemon
END:VEVENT
END:VCALENDAR
