BEGIN:VCALENDAR
VERSION:2.0
PRODID:-//https://pokemontrainersuniverse.com///NONSGML kigkonsult.se iCalcreator 2.10.15//
METHOD:PUBLISH
BEGIN:VEVENT
UID:20260419T174330UTC-9295wMm3Nv@https://pokemontrainersuniverse.com/
DTSTAMP:20260419T174330Z
DESCRIPTION: https://pokemontrainersuniverse.com/tournaments/event/352-one-
 up-games-weekly-pokemon
DTSTART:20260808T180000Z
DTEND:20260808T235700Z
LOCATION:One Up Games (2 Wilkins Dr\, Plainville\, MA 02762)
SUMMARY:One Up Games Weekly Pokemon
URL:https://pokemontrainersuniverse.com/tournaments/event/352-one-up-games-
 weekly-pokemon
END:VEVENT
END:VCALENDAR
